BEGIN:VCALENDAR
VERSION:2.0
PRODID:-//New-Age-Lifestyle - ECPv6.0.12//NONSGML v1.0//EN
CALSCALE:GREGORIAN
METHOD:PUBLISH
X-WR-CALNAME:New-Age-Lifestyle
X-ORIGINAL-URL:https://new-age-lifestyle.com
X-WR-CALDESC:Veranstaltungen für New-Age-Lifestyle
REFRESH-INTERVAL;VALUE=DURATION:PT1H
X-Robots-Tag:noindex
X-PUBLISHED-TTL:PT1H
BEGIN:VTIMEZONE
TZID:Europe/Berlin
BEGIN:DAYLIGHT
TZOFFSETFROM:+0100
TZOFFSETTO:+0200
TZNAME:CEST
DTSTART:20220327T010000
END:DAYLIGHT
BEGIN:STANDARD
TZOFFSETFROM:+0200
TZOFFSETTO:+0100
TZNAME:CET
DTSTART:20221030T010000
END:STANDARD
END:VTIMEZONE
BEGIN:VEVENT
DTSTART;VALUE=DATE:20221108
DTEND;VALUE=DATE:20221109
DTSTAMP:20260424T061147
CREATED:20211214T085827Z
LAST-MODIFIED:20211214T085828Z
UID:1606-1667865600-1667951999@new-age-lifestyle.com
SUMMARY:Stier im Vollmond - 08.11.2022 Mondphase / Mondkalender
DESCRIPTION:Daten allgemein:\nDie Mondphase Vollmond\nDer Vollmond ist die Vollendung. Diese Mondphase ist sehr gut um die inneren Konflikte zu analysieren und erkennen. Danach können diese hinter sich gelassen werden. Die Emotion ist an diesen Tagen im Vordergrund und so kommt es in vielen Fällen zu erhöhter sexueller Leidenschaft oder auch zu aggressiven Handlungen.\nDer Vollmond steht in der Wechselwirkung zwischen Aufnahme und Abgabe. An diesem Tag kommen bei etlichen Menschen starke Seelische Einflüsse vor und verursachen innere Unruhe. \nStiertage allgemein\nMit dem Kopf durch die Wand? Nein\, heute Bitte alle wichtigen Entscheidungen sehr gut überlegen und gegebenen Falls auf das nächste Mondsternzeichen verlegen.\nDie Stiertage sind besonders günstig zur Entspannung durch Massagen. \nSternzeichen Element: Erde \nFreizeittipps:\n+ Wandern\, Natur genießen\, Sport treiben \nFamilie und Partnerschaft\n+ Der ideale Zeitpunkt für Hochzeiten\n+ Heute ist die Harmonie sehr wichtig in die Partnerschaft\n+ Positiv sind alle Angelegenheiten in Heim und Partnerschaft \nErnährung und Gesundheit\n+ Top Gemüse: Kohlrabi\, Zwiebeln\, Lauch und Kartoffeln\n+ Die Verwertung von Salzen zur Bluternährung ist heute besonders gut. (Vorsicht ist nur bei hohem Blutdruck geboten!)\n+ Stärkung des Immunsystems!\n+ Abstillen und Geburtstermine \nOperationen und Zahnbehandlungen\n– Impfungen\n– Zahnbehandlungen durchführen (Nur in Notfällen)\n– Chirurgische Eingriffe\, nur in Notfällen durchführen lassen. Insbesondere: Kehle\, Schilddrüse\, Kiefer\, Mandeln\, Hals und Ohren \nHeilmittel\n+ Heilende Salben herstellen und anwenden \nKarriere und Beruf\n+ Es sind sehr gute Abschlüsse bei Geldanlagen\, Versteigerungen oder Verkäufen möglich\n+ Erfolgreich sind auch Budgetplanungen an diesem Tag \nKörperpflege bzw. Schönheit\nHaare / Friseur\n+ Haare schneiden (langsamer Nachwuchs)\, die Frisur hält länger\n+ Körperhaare entfernen \nHaut / Kosmetik\n+ Tiefenreinigung von Haut\n+ Feuchtigkeitsspendende Pflege \nKörperpflege\n+ Feuchtigkeitsspendende Pflege \nBäder und Massagen\n+ Heil- und Schönheitsbädern\n+ Entspannungsmassagen \nHaushalt\n+ Federkissen und Betten auffüllen\n+ Kurzes lüften der Wohnung ist angesagt \n– Einkochen\, abfüllen und einlagern \nZimmerpflanzen\n+ Zimmerpflanzen mit schwacher Wurzelbildung zwischendüngen \nLandwirtschaft und Garten\n+ Alle Pflanzen düngen Feld/Garten\n+ Den Mist- und Jauche ausfahren\n+ Geburtstermine für Haustiere\n+ Wasserbau / Quellensuche\n+ Abschluss Jungtiere von der Mutter entwöhnen \n– Obstbäumen und Rosen veredeln\n– Setzen und reparieren von Einzäunungen\n– Heilkräuter trocknen\, abfüllen und lagern
URL:https://new-age-lifestyle.com/mondkalender/stier-im-vollmond-08-11-2022-mondphase-mondkalender/
ATTACH;FMTTYPE=image/png:https://new-age-lifestyle.com/wp-content/uploads/2021/12/mondkalender-stier-im-vollmond.png
END:VEVENT
END:VCALENDAR