BEGIN:VCALENDAR
VERSION:2.0
PRODID:-//New-Age-Lifestyle - ECPv6.0.12//NONSGML v1.0//EN
CALSCALE:GREGORIAN
METHOD:PUBLISH
X-ORIGINAL-URL:https://new-age-lifestyle.com
X-WR-CALDESC:Veranstaltungen für New-Age-Lifestyle
REFRESH-INTERVAL;VALUE=DURATION:PT1H
X-Robots-Tag:noindex
X-PUBLISHED-TTL:PT1H
BEGIN:VTIMEZONE
TZID:Europe/Berlin
BEGIN:DAYLIGHT
TZOFFSETFROM:+0100
TZOFFSETTO:+0200
TZNAME:CEST
DTSTART:20230326T010000
END:DAYLIGHT
BEGIN:STANDARD
TZOFFSETFROM:+0200
TZOFFSETTO:+0100
TZNAME:CET
DTSTART:20231029T010000
END:STANDARD
END:VTIMEZONE
BEGIN:VEVENT
DTSTART;VALUE=DATE:20230205
DTEND;VALUE=DATE:20230206
DTSTAMP:20260423T213034
CREATED:20211214T080549Z
LAST-MODIFIED:20211214T080549Z
UID:1487-1675555200-1675641599@new-age-lifestyle.com
SUMMARY:Löwe im Vollmond - 05.02.2023 Mondphase / Mondkalender
DESCRIPTION:Daten allgemein:\nDie Mondphase Vollmond\nDer Vollmond ist die Vollendung. Diese Mondphase ist sehr gut um die inneren Konflikte zu analysieren und erkennen. Danach können diese hinter sich gelassen werden. Die Emotion ist an diesen Tagen im Vordergrund und so kommt es in vielen Fällen zu erhöhter sexueller Leidenschaft oder auch zu aggressiven Handlungen.\nDer Vollmond steht in der Wechselwirkung zwischen Aufnahme und Abgabe. An diesem Tag kommen bei etlichen Menschen starke Seelische Einflüsse vor und verursachen innere Unruhe. \nLöwetage allgemein\nDie Gefühle dominieren und so ist häusliche Gemütlichkeit\, die Sehnsucht nach Geborgenheit sowie familiäre Harmonie angesagt.  Dieses Zeichen bietet eine sehr gute Zeit zum Entspannen und sich Auszuruhen.\nAn diesen Tagen sollten Sie achtsam sein. Lassen Sie sich nicht beeinflussen und achten Sie darauf nicht Überempfindlich zu reagieren. \nSternzeichen Element: Feuer \nFreizeittipps:\n+ Musicals\, Oper\, Open Air oder Konzerte besuchen. Wandern\, spazieren gehen\, Sauna\, Fernsehen\, Natur genießen \nFamilie und Partnerschaft\n+ Familienbesuche / Feste & Musikveranstaltungen\n+ Wilde Gefühle wie Leidenschaft und Eifersucht beflügeln heute ihre Partnerschaft \nErnährung und Gesundheit\n+ Top Gemüse: Hülsenfrüchte\, Zucchini\, Aubergine\, weiteres rotes Gemüse und Obst\n+ Eine gute Verwertung von Eiweiß (Allergiker sollten allerdings vorsichtig sein!)\n+ Um den Kreislauf und den Körper zu schonen\, nur leichte Kost zu sich nehmen\n+ Abstillen und Geburtstermine \n– Körperliche Anstrengungen und Leistungssport bei Kreislauf und Herzproblemen meiden!\n– Es plagen Schlaflosigkeit und innere Unruhe \nOperationen und Zahnbehandlungen\n– Impfungen\n– Chirurgische Eingriffe\, nur in Notfällen durchführen lassen. Insbesondere: Rücken\, Zwerchfell\, Herz\, Blutkreislauf und Schlagadern. \nHeilmittel\n+ Heilkräuter (Früchte) sammeln und anwenden \nKarriere und Beruf\n+ Es sind gute Abschlüsse bei Versteigerungen oder Verkäufen möglich\n+ Heute haben die Dominanz für ihre Durchsetzungskraft und viel Selbstvertrauen \n– Vorsicht zur Neigung von Arroganz\, Spekulationen und Rechthaberei \nKörperpflege bzw. Schönheit\nHaare / Friseur\n+ Haare schneiden (dichter und schneller Nachwuchs)\n+ Färben und Tönen\n+ Dauerwelle\n+ Protein- und Feuchtigkeitskuren \nHaut / Kosmetik\n+ Protein- und Feuchtigkeitsspendende Pflege \nKörperpflege\n+ Feuchtigkeitsspendende Pflege \nBäder und Massagen\n+ Sinnliches aphrodisisches Bad\n+ Wohltuende und gefühlsvoll entspannende Massagen \nHaushalt\n+ Ausgiebig die Wohnung und sonstige Räume lüften \nZimmerpflanzen\n+ Gießen der Zimmerpflanzen \nLandwirtschaft und Garten\n+ Obstbäumen und Rosen veredeln \n+ Bäume pflanzen\n+ Butter erzeugen\n+ Wasserbau / Quellensuche\n+ Geburtstermine für Haustiere \n– Düngen und gießen\n– Unkraut entfernen / jäten
URL:https://new-age-lifestyle.com/mondkalender/loewe-im-vollmond-05-02-2023-mondphase-mondkalender/
ATTACH;FMTTYPE=image/png:https://new-age-lifestyle.com/wp-content/uploads/2021/12/mondkalender-loewe-vollmond.png
END:VEVENT
END:VCALENDAR