BEGIN:VCALENDAR
VERSION:2.0
PRODID:-//New-Age-Lifestyle - ECPv6.0.12//NONSGML v1.0//EN
CALSCALE:GREGORIAN
METHOD:PUBLISH
X-ORIGINAL-URL:https://new-age-lifestyle.com
X-WR-CALDESC:Veranstaltungen für New-Age-Lifestyle
REFRESH-INTERVAL;VALUE=DURATION:PT1H
X-Robots-Tag:noindex
X-PUBLISHED-TTL:PT1H
BEGIN:VTIMEZONE
TZID:Europe/Berlin
BEGIN:DAYLIGHT
TZOFFSETFROM:+0100
TZOFFSETTO:+0200
TZNAME:CEST
DTSTART:20230326T010000
END:DAYLIGHT
BEGIN:STANDARD
TZOFFSETFROM:+0200
TZOFFSETTO:+0100
TZNAME:CET
DTSTART:20231029T010000
END:STANDARD
END:VTIMEZONE
BEGIN:VEVENT
DTSTART;VALUE=DATE:20230307
DTEND;VALUE=DATE:20230308
DTSTAMP:20260423T213149
CREATED:20211214T065805Z
LAST-MODIFIED:20211214T065805Z
UID:1450-1678147200-1678233599@new-age-lifestyle.com
SUMMARY:Jungfrau im Vollmond - 07.03.2023 Mondphase / Mondkalender
DESCRIPTION:Daten allgemein:\nDie Mondphase Vollmond\nDer Vollmond ist die Vollendung. Diese Mondphase ist sehr gut um die inneren Konflikte zu analysieren und erkennen. Danach können diese hinter sich gelassen werden. Die Emotion ist an diesen Tagen im Vordergrund und so kommt es in vielen Fällen zu erhöhter sexueller Leidenschaft oder auch zu aggressiven Handlungen.\nDer Vollmond steht in der Wechselwirkung zwischen Aufnahme und Abgabe. An diesem Tag kommen bei etlichen Menschen starke Seelische Einflüsse vor und verursachen innere Unruhe. \nJungfrauentage allgemein\nDie Jungfrau steht im besonderem für den Aufbauen\, das Stärken und Erholen! An diesen Tagen ist das Kontaktbedürfnis verstärkt. Ideal ist diese Mondphase\, auch ohne großen kreativen Anspruch\, für die Erledigung von Kleinigkeiten. Sorgfältiges Prüfen und vorsichtige Entscheidungen sind angesagt. \nSternzeichen Element: Erde \nFreizeittipps:\n+ Fernsehen\, spazieren gehen\, an einem See verweilen \nFamilie und Partnerschaft\n+ Heute ist es ratsam sich von allem etwas zurück zu halten\n+ Ein guter Zeitpunkt für Kurzreisen oder einen Ausflug \nErnährung und Gesundheit\n+ Top Gemüse: Kohlrabi\, Zwiebeln\, Lauch und Kartoffeln\n+ Achten Sie auf den Stoffwechsel und Ihre Verdauung. Die Verwertung von Salzen ist heute besonders gut. Vorsicht ist nur bei hohem Blutdruck geboten!\n+ Es ist der beste Zeitpunkt um mit einer Diät zu starten\n+ Für Rehabilitationsmaßnahmen und Kuren ist es ein ausgezeichneter Termin \nOperationen und Zahnbehandlungen\n– Impfungen (meiden)\n– Zahnbehandlungen (meiden)\n– Operative Eingriffe meiden. Insbesondere Milz\, Bauchspeicheldrüse\, Verdauungsorgane und Nerven \nHeilmittel\n+ Heilkräuter (Früchte) sammeln und anwenden \nKarriere und Beruf\n+ Für geschäftliche Verhandlungen ist heute eine hervorragende Zeit\, auch sind gute Abschlüsse bei Versteigerungen oder Verkäufen möglich.\n+ Für Kredite\, Einkaufsplanungen oder Geldanlagen herrschen gute Bedingungen \nKörperpflege bzw. Schönheit\nHaare / Friseur\n+ Haare schneiden (dichter und schnellerer Nachwuchs)\n+ Färben und Tönen\n+ Dauerwelle\n+ Tiefenreinigung Haar\n+ Aufbauende Haarpflege \nHaut / Kosmetik\n+ Tiefenreinigung der Haut\n+ Aufbauende Masken\, Packungen… \nKörperpflege\n+ Aufbauende Pflege (Packungen usw.)\n+ Schönheitsbäder \nNagelpflege\n+ Pflege von Fuß- und Fingernägel\n+ Korrektur der eingewachsenen Finger- und Fußnägel \nBäder und Massagen\n+ Heilende Bäder\n+ Kräftigende Massagen \nHaushalt\n+ Kurzes lüften der Wohnung ist angesagt\n+ Trocken die Fußböden reinigen \n– Da Schimmelgefahr besteht\, sollte auf das Einlagern von Gemüse und Obst verzichtet werden. \nZimmerpflanzen\n+ Umtopfen\n+ Setzen von Stecklingen \nLandwirtschaft und Garten\n+ Den Mist- oder Komposthaufen ansetzen\n+ Pflanzen die schwach wurzeln sollte eine Zwischendüngung durchgeführt werden\n+ Schädlinge im Wurzelbereich bekämpfen\n– Obst- Bäume zurückschneiden Bzw. ausschneiden\n– Jungtiere von der Mutter entwöhnen (schlechte Entwicklung)
URL:https://new-age-lifestyle.com/mondkalender/jungfrau-im-vollmond-07-03-2023-mondphase-mondkalender/
ATTACH;FMTTYPE=image/png:https://new-age-lifestyle.com/wp-content/uploads/2021/12/mondkalender-jungfrau-im-vollmond.png
END:VEVENT
END:VCALENDAR