BEGIN:VCALENDAR
VERSION:2.0
PRODID:-//New-Age-Lifestyle - ECPv6.0.12//NONSGML v1.0//EN
CALSCALE:GREGORIAN
METHOD:PUBLISH
X-ORIGINAL-URL:https://new-age-lifestyle.com
X-WR-CALDESC:Veranstaltungen für New-Age-Lifestyle
REFRESH-INTERVAL;VALUE=DURATION:PT1H
X-Robots-Tag:noindex
X-PUBLISHED-TTL:PT1H
BEGIN:VTIMEZONE
TZID:Europe/Berlin
BEGIN:DAYLIGHT
TZOFFSETFROM:+0100
TZOFFSETTO:+0200
TZNAME:CEST
DTSTART:20230326T010000
END:DAYLIGHT
BEGIN:STANDARD
TZOFFSETFROM:+0200
TZOFFSETTO:+0100
TZNAME:CET
DTSTART:20231029T010000
END:STANDARD
END:VTIMEZONE
BEGIN:VEVENT
DTSTART;VALUE=DATE:20230406
DTEND;VALUE=DATE:20230407
DTSTAMP:20260423T194416
CREATED:20211214T090639Z
LAST-MODIFIED:20211214T090639Z
UID:1635-1680739200-1680825599@new-age-lifestyle.com
SUMMARY:Waage im Vollmond - 06.04.2023 Mondphase / Mondkalender
DESCRIPTION:Daten allgemein:\nDie Mondphase Vollmond\nDer Vollmond ist die Vollendung. Diese Mondphase ist sehr gut um die inneren Konflikte zu analysieren und erkennen. Danach können diese hinter sich gelassen werden. Die Emotion ist an diesen Tagen im Vordergrund und so kommt es in vielen Fällen zu erhöhter sexueller Leidenschaft oder auch zu aggressiven Handlungen.\nDer Vollmond steht in der Wechselwirkung zwischen Aufnahme und Abgabe. An diesem Tag kommen bei etlichen Menschen starke Seelische Einflüsse vor und verursachen innere Unruhe. \nWaagestage allgemein\nAn den Waagetagen werden zwischenmenschliche Beziehungen groß geschrieben. Flirts und Romanzen sind begünstigt und auch in der Partnerschaft oder Freundschaft harmoniert es sehr gut. Bitte\, bieten Sie jedoch keinen Grund zur Eifersucht\, denn emotionale Konflikte stehen an diesen Tagen in keinem guten Zeichen.\nFettreiche Nahrung ist Waagetagen besonders gut verwertbar. \nSternzeichen Element: Luft \nFreizeittipps:\n+ Tanzen gehen\, Veranstaltungen besuchen z.B. Opern oder Konzerte\, Kaffee trinken gehen! \nFamilie und Partnerschaft\n+ Harmonie und Romantik prägen die Grundstimmung in die Partnerschaft\n+ Kreative Tätigkeiten\n+ Top Belastbarkeit mit Kindern \nErnährung und Gesundheit\n+ Top Gemüse: Artischocken\, Brokkoli und Blumenkohl\n+ Viel Trinken vor allem Tees und Fruchtsäfte\n+ Die Verwertung von Fett ist heute besonders gut. (Vorsicht bei Stoffwechselproblemen!)\n+ Stärkung des Immunsystems\n+ Abstillen und Geburtstermine \nOperationen  und Zahnbehandlungen\n– Chirurgische Eingriffe\, nur in Notfällen durchführen lassen. Insbesondere: Nieren\, Blase und Hüfte \nHeilmittel\n+ Heilkräuter (Blüten) sammeln und trocknen\n+ Salben herstellen und am Folgetag abfüllen \nKarriere und Beruf\n+ Gute Abschlüsse bei Versteigerungen oder Verkäufen möglich\n+ Routinearbeiten sollten konsequent durchgeführt werden \nKörperpflege bzw. Schönheit\nHaare / Friseur\n+ Tiefenreinigung Haare\n+ Haarpflege nach Zustand \nHaut / Kosmetik\n+ Tiefenreinigung von Haut\n+ Aufbauende Masken \nKörperpflege\n+ Körperpflege jeglicher Art \nBäder und Massagen\n+ Anregende Massagen (Bürstenmassage)\n+ Anregende Bäder (Durchblutungsfördernd) \nHaushalt\n+ Selbstgebackenes\n+ Schnittblumen für Vase pflücken \nZimmerpflanzen\n– Gießen der Zimmerpflanzen \nLandwirtschaft und Garten\n+ Wasserbau / Quellensuche \n– Ernten\, einlagern und konservieren\n– Düngen von Wiesen\n– Obst- Bäume und Sträucher zurückschneiden
URL:https://new-age-lifestyle.com/mondkalender/waage-im-vollmond-06-04-2023-mondphase-mondkalender/
ATTACH;FMTTYPE=image/png:https://new-age-lifestyle.com/wp-content/uploads/2021/12/mondkalender-waage-im-vollmond.png
END:VEVENT
END:VCALENDAR