BEGIN:VCALENDAR
VERSION:2.0
PRODID:-//New-Age-Lifestyle - ECPv6.0.12//NONSGML v1.0//EN
CALSCALE:GREGORIAN
METHOD:PUBLISH
X-ORIGINAL-URL:https://new-age-lifestyle.com
X-WR-CALDESC:Veranstaltungen für New-Age-Lifestyle
REFRESH-INTERVAL;VALUE=DURATION:PT1H
X-Robots-Tag:noindex
X-PUBLISHED-TTL:PT1H
BEGIN:VTIMEZONE
TZID:Europe/Berlin
BEGIN:DAYLIGHT
TZOFFSETFROM:+0100
TZOFFSETTO:+0200
TZNAME:CEST
DTSTART:20230326T010000
END:DAYLIGHT
BEGIN:STANDARD
TZOFFSETFROM:+0200
TZOFFSETTO:+0100
TZNAME:CET
DTSTART:20231029T010000
END:STANDARD
END:VTIMEZONE
BEGIN:VEVENT
DTSTART;VALUE=DATE:20230420
DTEND;VALUE=DATE:20230421
DTSTAMP:20260423T194406
CREATED:20211214T084901Z
LAST-MODIFIED:20211214T084901Z
UID:1594-1681948800-1682035199@new-age-lifestyle.com
SUMMARY:Stier im Neumond - 20.04.2023 Mondphase / Mondkalender
DESCRIPTION:Daten allgemein:\nDie Mondphase Neumond\nDie Impulse des Neumondes stehen für den Neuanfang. Die Erfolgschancen für Projekte die an diesem Tag in Angriff genommen werden stehen gut. Aus diesem Grund ist das planen und Vorsätze fassen heute hervorragend. Die Kontakte welche an diesem Tag geknüpft werden sind meistens von langer Dauer.\nDer Neumond bestärkt die Fähigkeit zur Entgiftung und Entschlackung.\nSchlechte Gewohnheiten\, wie das Rauchen und den Alkoholkonsum aufzugeben\, fallen ihnen leichter. \nStiertage allgemein\nMit dem Kopf durch die Wand? Nein\, heute Bitte alle wichtigen Entscheidungen sehr gut überlegen und gegebenen Falls auf das nächste Mondsternzeichen verlegen.\nDie Stiertage sind besonders günstig zur Entspannung durch Massagen. \nSternzeichen Element: Erde \nFreizeittipps:\n+ Wandern\, Natur genießen\, Sport treiben \nFamilie und Partnerschaft\n+ Der ideale Zeitpunkt für Hochzeiten\n+ Heute ist die Harmonie sehr wichtig in die Partnerschaft\n+ Positiv sind alle Angelegenheiten in Heim und Partnerschaft \nErnährung und Gesundheit\n+ Top Gemüse: Kohlrabi\, Zwiebeln\, Lauch und Kartoffeln\n+ Die Verwertung von Salzen ist heute besonders gut. Vorsicht ist nur bei hohem Blutdruck und Diätmaßnahmen geboten!\n+ Es ist der beste Zeitpunkt um einen Fastentag einzulegen\n+ Entspannungsübungen \n– Starke Lärmbelästigungen (Daher bitte meiden)\n– Körperliche Anstrengungen und Leistungssport meiden! \nOperationen und Zahnbehandlungen\n+ Entfernung von Hühneraugen und Warzen\n+ Positiv für Operationen (Außer: Kehle\, Schilddrüse\, Kiefer\, Mandeln\, Hals und Ohren\, diese nur in Notfällen durchführen lassen)\n+ Zahnbelag entfernen \n– Operationen in Zahnbereichen \nKarriere und Beruf\n+ Es sind sehr gute Abschlüsse bei Geldanlagen\, Versteigerungen oder Verkäufen möglich\n+ Erfolgreich sind auch Budgetplanungen an diesem Tag \nKörperpflege bzw. Schönheit\nHaare / Friseur\n+ Tiefenreinigung von Haar\n+ Haarpflege jeglicher Art \nHaut / Kosmetik\n+ Tiefenreinigung von Haut\n+ Aufbauende Masken und feuchtigkeitsspendende Pflege \nKörperpflege\n+ Körperpflege jeglicher Art \nBäder und Massagen\n+ Entspannungsbäder\n+ Entspannungsmassagen \nNagelpflege\n+ Fuß- und Fingernagelpflege \nHaushalt\n+ Klasse Zeitpunkt um in einer neuen Wohnung ein zu ziehen\n+ Kartoffeln / Wurzelgemüse einlagern und konservieren \n– Kuchen und Brot backen \nZimmerpflanzen\n+ Zimmerpflanzen mit schwacher Wurzelbildung zwischendüngen \nLandwirtschaft und Garten\n+ Kranke und von Schädlingen befallene Obst- Bäume\, Sträucher und Pflanzen zurückschneiden!\n+ Hölzerne Umzäunungen reparieren und setzen\n+ Kastration von Haustieren \n– Sähen und Pflanzen (vor allem Bohnen und Erbsen)\n– Wurzelpflanzen sammeln\n– Obstbäumen und Rosen veredeln\n– Heilkräuter trocknen\, abfüllen und Lagern
URL:https://new-age-lifestyle.com/mondkalender/stier-im-neumond-20-04-2023-mondphase-mondkalender/
ATTACH;FMTTYPE=image/png:https://new-age-lifestyle.com/wp-content/uploads/2021/12/mondkalender-stier-im-neumond.png
END:VEVENT
END:VCALENDAR