BEGIN:VCALENDAR
VERSION:2.0
PRODID:-//New-Age-Lifestyle - ECPv6.0.12//NONSGML v1.0//EN
CALSCALE:GREGORIAN
METHOD:PUBLISH
X-ORIGINAL-URL:https://new-age-lifestyle.com
X-WR-CALDESC:Veranstaltungen für New-Age-Lifestyle
REFRESH-INTERVAL;VALUE=DURATION:PT1H
X-Robots-Tag:noindex
X-PUBLISHED-TTL:PT1H
BEGIN:VTIMEZONE
TZID:Europe/Berlin
BEGIN:DAYLIGHT
TZOFFSETFROM:+0100
TZOFFSETTO:+0200
TZNAME:CEST
DTSTART:20230326T010000
END:DAYLIGHT
BEGIN:STANDARD
TZOFFSETFROM:+0200
TZOFFSETTO:+0100
TZNAME:CET
DTSTART:20231029T010000
END:STANDARD
END:VTIMEZONE
BEGIN:VEVENT
DTSTART;VALUE=DATE:20230505
DTEND;VALUE=DATE:20230506
DTSTAMP:20260423T163105
CREATED:20211214T083327Z
LAST-MODIFIED:20211214T083327Z
UID:1554-1683244800-1683331199@new-age-lifestyle.com
SUMMARY:Skorpion im Vollmond - 05.05.2023 Mondphase / Mondkalender
DESCRIPTION:Daten allgemein:\nDie Mondphase Vollmond\nDer Vollmond ist die Vollendung. Diese Mondphase ist sehr gut um die inneren Konflikte zu analysieren und erkennen. Danach können diese hinter sich gelassen werden. Die Emotion ist an diesen Tagen im Vordergrund und so kommt es in vielen Fällen zu erhöhter sexueller Leidenschaft oder auch zu aggressiven Handlungen.\nDer Vollmond steht in der Wechselwirkung zwischen Aufnahme und Abgabe. An diesem Tag kommen bei etlichen Menschen starke Seelische Einflüsse vor und verursachen innere Unruhe. \nSkorpion Tage allgemein\nDiese Phase ist mit gewaltigen emotionalen Energien geladen vor allem auch im sexuellen Bereich\, denn Tabus können gebrochen werden und neue positive wie negative Erfahrungen werden gemacht.\nAchten Sie an diesen Tagen auf Ihre innere Stimme\, denn an diesen Tagen ist diese sehr begünstigt. \nSternzeichen Element: Wasser \nFreizeittipps:\n+ Einkaufsbummel\, Kaffee trinken gehen\, Massagen und Wellness \nFamilie und Partnerschaft\n+ Starke Gefühle und Sinnlichkeit\, Liebe\, Leidenschaft\, Sex\n+ Der ideale Zeitpunkt zu zweit für einen Einkaufsbummel \n– Eifersucht  und eigenwilliges Verhalten \nErnährung und Gesundheit\n+ Top Gemüse: Salat und weiteres Blattgemüse wie zum Beispiel Spinat\n+ Eine gute Verwertung von Kohlenhydraten (Übergewichtige und Allergiker sollten allerdings vorsichtig sein!)\n+ Stärkung des Immunsystems!\n+ Schwangere sollten sich schonen\n+ Sitzbäder bei Unterleibsbeschwerden \nOperationen und Zahnbehandlungen\n– Impfungen\n– Chirurgische Eingriffe\, nur in Notfällen durchführen lassen. Insbesondere: Ausscheidungs- und Sexualorgane \nHeilmittel\n+ Heilkräuter sammeln und trocknen\n+ Kräuterkissen herstellen\n+ Heilende Salben herstellen \nKarriere und Beruf\n+ Sehr guter Tag um Planungen von Projekten durch zu führen\n+ Positiv für Nachforschungen\, Umfragen und geschäftliche Verhandlungen \nKörperpflege bzw. Schönheit\nHaare / Friseur\n+ Feuchtigkeitskuren und aufbauende Pflege \nHaut / Kosmetik\n+ Feuchtigkeitsspendende und aufbauende Pflege \nKörperpflege\n+ Feuchtigkeitsspendende Pflege \nNagelpflege\n+ Pflege von Fuß- und Fingernägel\n+ Korrektur eingewachsenen Finger- und Fußnägel \nBäder und Massagen\n+ Entspannungsbäder\n+ Entspannungsmassagen \nHaushalt\n+ Nur das notwendigste im Haushalt erledigen\n+ Bei Bedarf: Wasserinstallationsarbeiten durchführen \nZimmerpflanzen\n+ Gießen der Zimmerpflanzen \nLandwirtschaft und Garten\n+ Bei trockener Wetterlage > Heu trocknen und einbringen\n+ Düngen von Wiesen \n– Fällen von Bäumen
URL:https://new-age-lifestyle.com/mondkalender/skorpion-im-vollmond-05-05-2023-mondphase-mondkalender/
ATTACH;FMTTYPE=image/png:https://new-age-lifestyle.com/wp-content/uploads/2021/12/mondkalender-skorpion-im-vollmond.png
END:VEVENT
END:VCALENDAR