BEGIN:VCALENDAR
VERSION:2.0
PRODID:-//New-Age-Lifestyle - ECPv6.0.12//NONSGML v1.0//EN
CALSCALE:GREGORIAN
METHOD:PUBLISH
X-WR-CALNAME:New-Age-Lifestyle
X-ORIGINAL-URL:https://new-age-lifestyle.com
X-WR-CALDESC:Veranstaltungen für New-Age-Lifestyle
REFRESH-INTERVAL;VALUE=DURATION:PT1H
X-Robots-Tag:noindex
X-PUBLISHED-TTL:PT1H
BEGIN:VTIMEZONE
TZID:Europe/Berlin
BEGIN:DAYLIGHT
TZOFFSETFROM:+0100
TZOFFSETTO:+0200
TZNAME:CEST
DTSTART:20230326T010000
END:DAYLIGHT
BEGIN:STANDARD
TZOFFSETFROM:+0200
TZOFFSETTO:+0100
TZNAME:CET
DTSTART:20231029T010000
END:STANDARD
END:VTIMEZONE
BEGIN:VEVENT
DTSTART;VALUE=DATE:20230604
DTEND;VALUE=DATE:20230605
DTSTAMP:20260423T142442
CREATED:20211214T081600Z
LAST-MODIFIED:20211214T081600Z
UID:1512-1685836800-1685923199@new-age-lifestyle.com
SUMMARY:Schütze im Vollmond - 04.06.2023 Mondphase / Mondkalender
DESCRIPTION:Daten allgemein:\nDie Mondphase Vollmond\nDer Vollmond ist die Vollendung. Diese Mondphase ist sehr gut um die inneren Konflikte zu analysieren und erkennen. Danach können diese hinter sich gelassen werden. Die Emotion ist an diesen Tagen im Vordergrund und so kommt es in vielen Fällen zu erhöhter sexueller Leidenschaft oder auch zu aggressiven Handlungen.\nDer Vollmond steht in der Wechselwirkung zwischen Aufnahme und Abgabe. An diesem Tag kommen bei etlichen Menschen starke Seelische Einflüsse vor und verursachen innere Unruhe. \nSchützentage allgemein\nAn den Schützentagen steigt die Lust auf Abendteuer und Reisen.\nEs ist der Wendepunkt zwischen absteigender und aufbauender Kraft und so entsteht auch innerlich etwas Unruhe. Bei den meisten Menschen ist an diesem Tag ist der Blick nach vorne gerichtet. \nSternzeichen Element: Feuer \nFreizeittipps:\n+ Tagesausflüge\, Reisen planen\, Natur genießen\, wandern \nFamilie und Partnerschaft\n+ Ausflug oder Kurzreise machen\n+ Der ideale Zeitpunkt um Missverständnisse und Streitigkeiten durch klärende Gespräche aus dem Weg zu räumen. \nErnährung und Gesundheit\n+ Top Gemüse: Hülsenfrüchte\, Zucchini\, Aubergine\, weiteres rotes Gemüse und Obst \n+ Stärkung des Immunsystems! \n+ Geburten \n+ Eine gute Verwertung von Eiweiß (Allergiker sollten allerdings vorsichtig sein!)\n+ Wenig Nikotin und Kaffee sowie keinen Alkohol genießen \nOperationen und Zahnbehandlungen\n– Impfungen sowie\n– Chirurgische Eingriffe\, nur in Notfällen durchführen lassen. Insbesondere: Venen und Oberschenkel \nHeilmittel\n+ Heilkräuter (Früchte) sammeln und anwenden \nKarriere und Beruf\n+ Ein hervorragender Tag für Vorstellungs- und Bewerbungsgespräche \n– Vorsicht zur Neigung zum nicht erkennen der realen Situationen und Selbsttäuschung \nKörperpflege bzw. Schönheit\nHaare / Friseur\n+ Fransig und freche Frisuren\n+ Feuchtigkeitskuren und aufbauende Pflege \nHaut / Kosmetik\n+ Feuchtigkeitsspendende und aufbauende Pflege \nKörperpflege\n+ Feuchtigkeitsspendende Pflege \nBäder und Massagen\n+ Sinnliches aphrodisisches Bad\n+ Wohltuende\, gefühlsvoll entspannende Massagen\n+ Massagen zur Stärkung von Beine und Rückenmuskulatur \nHaushalt\n+ Ausgiebig die Wohnung lüften\n+ Gemüse und Obst und andere Lebensmittel einfrieren \n– Brandgefahr in der Küche durch schnell überhitzendes Fett \nLandwirtschaft und Garten\n+ Butter erzeugen\n+ Düngen von Pflanzen\, Gemüse\, Obst und Getreide\n+ Obstbäumen und Rosen veredeln\n+ Heu trocknen und einbringen\n+ Wasserbau / Quellensuche \n– Setzen von Salat\n– Unkraut entfernen / jäten
URL:https://new-age-lifestyle.com/mondkalender/schuetze-im-vollmond-04-06-2023-mondphase-mondkalender/
ATTACH;FMTTYPE=image/png:https://new-age-lifestyle.com/wp-content/uploads/2021/12/mondkalender-schuetze-imvollmond.png
END:VEVENT
END:VCALENDAR