BEGIN:VCALENDAR
VERSION:2.0
PRODID:-//New-Age-Lifestyle - ECPv6.0.12//NONSGML v1.0//EN
CALSCALE:GREGORIAN
METHOD:PUBLISH
X-ORIGINAL-URL:https://new-age-lifestyle.com
X-WR-CALDESC:Veranstaltungen für New-Age-Lifestyle
REFRESH-INTERVAL;VALUE=DURATION:PT1H
X-Robots-Tag:noindex
X-PUBLISHED-TTL:PT1H
BEGIN:VTIMEZONE
TZID:Europe/Berlin
BEGIN:DAYLIGHT
TZOFFSETFROM:+0100
TZOFFSETTO:+0200
TZNAME:CEST
DTSTART:20230326T010000
END:DAYLIGHT
BEGIN:STANDARD
TZOFFSETFROM:+0200
TZOFFSETTO:+0100
TZNAME:CET
DTSTART:20231029T010000
END:STANDARD
END:VTIMEZONE
BEGIN:VEVENT
DTSTART;VALUE=DATE:20230618
DTEND;VALUE=DATE:20230619
DTSTAMP:20260423T143000
CREATED:20211214T094311Z
LAST-MODIFIED:20211214T094311Z
UID:1712-1687046400-1687132799@new-age-lifestyle.com
SUMMARY:Zwilling im Neumond - 18.06.2023 Mondphase / Mondkalender
DESCRIPTION:Daten allgemein:\nDie Mondphase Neumond\nDie Impulse des Neumondes stehen für den Neuanfang. Die Erfolgschancen für Projekte die an diesem Tag in Angriff genommen werden stehen gut. Aus diesem Grund ist das planen und Vorsätze fassen heute hervorragend. Die Kontakte welche an diesem Tag geknüpft werden sind meistens von langer Dauer.\nDer Neumond bestärkt die Fähigkeit zur Entgiftung und Entschlackung.\nSchlechte Gewohnheiten\, wie das Rauchen und den Alkoholkonsum aufzugeben\, fallen ihnen leichter. \nZwillingtage allgemein\nViele Dinge auf einmal machen\, neugierig sein\, neue Menschen\, Eindrücke und Erfahrungen  kennen lernen\, dies alles kann zu Verwirrung und verzetteln des Tages verleiten. Bleiben Sie heute zielbewusst und machen Sie eins nach dem anderen.\nEin positiver Tag für Geselligkeit wie z. B. Familientreffen. Dieser Tag eignet sich hervorragend  für ungezwungene Unterhaltung. \nSternzeichen Element: Luft \nFreizeittipps:\n+ Partys\, Theaterbesuche\, Musicals\, Veranstaltungen und Kurzreisen \nFamilie und Partnerschaft\n+ Vertrauen in Partnerschaften ist ein prägendes Element für diesen Tag.\n+ Besuchen Sie Veranstaltungen\, Partys oder starten Sie eine Kurzreise. \n– Hang zu mangelnder Entschlusskraft und Flüchtigkeitsfehler \nErnährung und Gesundheit\n+ Top Gemüse: Artischocken\, Brokkoli und Blumenkohl\n+ Die Verwertung von Fett ist heute besonders gut. (Vorsicht bei Stoffwechselproblemen)\n+ Bei rheumatischen Beschwerden\, stärkende Massagen oder Gymnastik durchführen \n– Körperliche Anstrengungen und Leistungssport meiden! \nOperationen und Zahnbehandlungen\n+ Positiv für Operationen (Außer: Hände\, Arme\, Schultern und Lunge. Diese nur in Notfällen)\n– Zahnbehandlungen \nKarriere und Beruf\n+ Es sind gute Abschlüsse und Konditionen bei Versteigerungen oder Verkäufen möglich\n+ Geschäftsbeziehungen können geknüpft und erweitert werden \n– Hang zu mangelnder Entschlusskraft und Flüchtigkeitsfehler \nKörperpflege bzw. Schönheit\nHaare / Friseur\n+ Haarpflege \nHaut / Kosmetik\n+ Tiefenreinigung von Haut\n+ Aufbauende Masken \nKörperpflege\n+ Körperpflege je nach Zustand der Haut \nBäder und Massagen\n+ Anregende Bäder\n+ Entspannende Massagen\n+ Handmassagen \nHaushalt\n+ Klasse Zeitpunkt um in einer neuen Wohnung ein zu ziehen\n+ Nur das notwendigste im Haushalt erledigen \n– Früchte und Kräuter sammeln und trocknen\n– Backen von Brot und Kuchen \nZimmerpflanzen\n– Düngen und gießen der Zimmerpflanzen \nLandwirtschaft und Garten\n+ Krankes Gehölz in Sträuchern und Obstbäumen entfernen\n+ Einholen von Heu und Heustock ansetzen\n+ Kastration von Haustieren\n+ Setzen und reparieren von Einzäunungen \n– Gießen von Pflanzen\n– Setzen und säen (Ausnahme Rankende Gewächse)
URL:https://new-age-lifestyle.com/mondkalender/zwilling-im-neumond-18-06-2023-mondphase-mondkalender/
ATTACH;FMTTYPE=image/png:https://new-age-lifestyle.com/wp-content/uploads/2021/12/mondkalender-zwilling-im-neumond.png
END:VEVENT
END:VCALENDAR