BEGIN:VCALENDAR
VERSION:2.0
PRODID:-//New-Age-Lifestyle - ECPv6.0.12//NONSGML v1.0//EN
CALSCALE:GREGORIAN
METHOD:PUBLISH
X-WR-CALNAME:New-Age-Lifestyle
X-ORIGINAL-URL:https://new-age-lifestyle.com
X-WR-CALDESC:Veranstaltungen für New-Age-Lifestyle
REFRESH-INTERVAL;VALUE=DURATION:PT1H
X-Robots-Tag:noindex
X-PUBLISHED-TTL:PT1H
BEGIN:VTIMEZONE
TZID:Europe/Berlin
BEGIN:DAYLIGHT
TZOFFSETFROM:+0100
TZOFFSETTO:+0200
TZNAME:CEST
DTSTART:20230326T010000
END:DAYLIGHT
BEGIN:STANDARD
TZOFFSETFROM:+0200
TZOFFSETTO:+0100
TZNAME:CET
DTSTART:20231029T010000
END:STANDARD
END:VTIMEZONE
BEGIN:VEVENT
DTSTART;VALUE=DATE:20230620
DTEND;VALUE=DATE:20230621
DTSTAMP:20260423T141003
CREATED:20211215T083845Z
LAST-MODIFIED:20211215T083845Z
UID:2102-1687219200-1687305599@new-age-lifestyle.com
SUMMARY:Krebs zunehmender Mond - 20.06.2023 Mondphase / Mondkalender
DESCRIPTION:Allgemeine Daten\nDer zunehmende Mond\nDiese Mondphase im Mondkalender steht für Wachstum\, Kräftigung und Erholung.\nSorgfältiges Prüfen und vorsichtige Entscheidungen sind beim Planen und Vorsätze fassen sehr ratsam!\nWer gesunde und kräftige Pflanzen haben möchte sollte jetzt sähen. \nKrebstage allgemein\nDie Gefühle dominieren und so ist häusliche Gemütlichkeit\, die Sehnsucht nach Geborgenheit sowie familiäre Harmonie angesagt.  Dieses Zeichen bietet eine sehr gute Zeit zum Entspannen und sich Auszuruhen.\nAn diesen Tagen sollten Sie achtsam sein. Lassen Sie sich nicht beeinflussen und achten Sie darauf nicht Überempfindlich zu reagieren. \nSternzeichen Element: Wasser \nFreizeittipps:\n+ Wandern\, spazieren gehen\, Sauna\, Fernsehen\, Natur genießen. \nFamilie und Partnerschaft\n+ Zu zweit Essen oder gehen\n+ Verwöhnen Sie Ihren Partner/in und umsorgen Sie diese/n\n+ Das Regeln von Familienangelegenheiten ist heute besonders gut \nErnährung und Gesundheit\n+ Top Gemüse: Salat und weiteres Blattgemüse wie zum Beispiel Spinat\n+ Gute Verwertung von Kohlenhydraten (Übergewichtige und Allergiker sollten allerdings vorsichtig sein!)\n+ Schlankheits- und Entschlackungskuren \n– Vorsicht bei Fett und Alkohol – Ihre Galle und Leber ist heute besonders empfindlich! \nOperationen und Zahnbehandlungen\n– Operationen von Brust\, Magen\, Galle\, Leber und Bauchspeicheldrüse nur im Notfall durchführen \nHeilmittel\n+ Heilkräuter (Blätter) sammeln und anwenden. Nicht trocknen! \nKarriere und Beruf\n+ Es sind sehr gute Abschlüsse bei Versteigerungen oder Verkäufen möglich.\n+ Heute haben Sie ein hervorragendes Vorstellungsvermögen\, sehr viel Phantasie und Kreativität. \nKörperpflege bzw. Schönheit\nHaare / Friseur\n+ Fransig fedrige Frisuren\n+ Haare schneiden (dichter und schnellerer Nachwuchs)\n+ Färben und Tönen\n+ Dauerwelle\n+ Aufbauende Haarpflege \nHaut / Kosmetik\n+ Hautpflege je nach Hautzustand \nKörperpflege\n+ Heilende Pflege je nach Zustand (Öle\, Lotionen…) \nBäder und Massagen\n+ Heil- und Schönheitsbäder\n+ Kräftigende Massagen \nHaushalt\n+ Es gelingen alle Haus\, Hof und Grundstücksarbeiten hervorragend\n+ Bei Bedarf: Wasserinstallationsarbeiten durchführen\n+ Backen \nZimmerpflanzen\n+ Gießen der Zimmerpflanzen \nLandwirtschaft und Garten\n+ Pflanzen gießen oder wässern\n+ Den Komposthaufen verdichten (feststampfen)\n+ Setzen und säen von Blattgemüse (Ausnahme: – Kopfsalat)\n+ Rasen mähen\n+ Wasserbau / Quellensuche\n+ Jungtiere von der Mutter entwöhnen
URL:https://new-age-lifestyle.com/mondkalender/krebs-zunehmender-mond-20-06-2023-mondphase-mondkalender/
ATTACH;FMTTYPE=image/png:https://new-age-lifestyle.com/wp-content/uploads/2021/12/mondkalender-krebs-zunehmender-mond.png
END:VEVENT
END:VCALENDAR