BEGIN:VCALENDAR
VERSION:2.0
PRODID:-//New-Age-Lifestyle - ECPv6.0.12//NONSGML v1.0//EN
CALSCALE:GREGORIAN
METHOD:PUBLISH
X-ORIGINAL-URL:https://new-age-lifestyle.com
X-WR-CALDESC:Veranstaltungen für New-Age-Lifestyle
REFRESH-INTERVAL;VALUE=DURATION:PT1H
X-Robots-Tag:noindex
X-PUBLISHED-TTL:PT1H
BEGIN:VTIMEZONE
TZID:Europe/Berlin
BEGIN:DAYLIGHT
TZOFFSETFROM:+0100
TZOFFSETTO:+0200
TZNAME:CEST
DTSTART:20230326T010000
END:DAYLIGHT
BEGIN:STANDARD
TZOFFSETFROM:+0200
TZOFFSETTO:+0100
TZNAME:CET
DTSTART:20231029T010000
END:STANDARD
END:VTIMEZONE
BEGIN:VEVENT
DTSTART;VALUE=DATE:20230717
DTEND;VALUE=DATE:20230718
DTSTAMP:20260421T160216
CREATED:20211214T074041Z
LAST-MODIFIED:20211214T074520Z
UID:1460-1689552000-1689638399@new-age-lifestyle.com
SUMMARY:Krebs im Neumond - 17.07.2023 Mondphase / Mondkalender
DESCRIPTION:Daten allgemein:\nDie Mondphase Neumond\nDie Impulse des Neumondes stehen für den Neuanfang. Die Erfolgschancen für Projekte die an diesem Tag in Angriff genommen werden stehen gut. Aus diesem Grund ist das planen und Vorsätze fassen heute hervorragend. Die Kontakte welche an diesem Tag geknüpft werden sind meistens von langer Dauer.\nDer Neumond bestärkt die Fähigkeit zur Entgiftung und Entschlackung.\nSchlechte Gewohnheiten\, wie das Rauchen und den Alkoholkonsum aufzugeben\, fallen ihnen leichter. \nKrebstage allgemein\nDie Gefühle dominieren und so ist häusliche Gemütlichkeit\, die Sehnsucht nach Geborgenheit sowie familiäre Harmonie angesagt.  Dieses Zeichen bietet eine sehr gute Zeit zum Entspannen und sich Auszuruhen.\nAn diesen Tagen sollten Sie achtsam sein. Lassen Sie sich nicht beeinflussen und achten Sie darauf nicht Überempfindlich zu reagieren. \nSternzeichen Element: Wasser \nFreizeittipps:\n+ Musicals\, Oper\, Open Air oder Konzerte besuchen. Auch Feste ausrichten oder besuchen\, sind eine großartige Bereicherung an diesem Tag!\n+ Wandern\, spazieren gehen\, Sauna\, Fernsehen\, Natur genießen \nFamilie und Partnerschaft\n+ Starke Gefühle\, Liebe\, Leidenschaft\, Sex\n+ Familienbesuche / Feste \n– Belastung durch negative Gefühle wie Eifersucht und Misstrauen \nErnährung und Gesundheit\n+ Top Gemüse: Hülsenfrüchte\, Zucchini\, Aubergine\, weiteres rotes Gemüse und Obst\n+ Eine gute Verwertung von Eiweiß (Allergiker sollten allerdings vorsichtig sein!)\n+ Fastentag\, Entschlackungskur einlegen. Ein Idealer Tag zur Entschlackung des Körpers\n+ Zur Blutreinigung Brennnesseltee trinken\n+ Positiv um schlechte Gewohnheiten wie Rauchen…. aufgeben \n– Körperliche Anstrengungen und Leistungssport meiden! \nOperationen und Zahnbehandlungen\n– Operationen von Leber\, Galle\, Brust\, Lunge\, Magen nur in Notfällen durchführen \nKarriere und Beruf\n+ Es sind sehr gute Abschlüsse bei Versteigerungen oder Verkäufen möglich\n+ Heute haben sie Kraft für Dominanz\, Durchsetzungskraft und viel Selbstvertrauen \n– Vorsicht zur Neigung von Arroganz\, Spekulationen und Rechthaberei \nKörperpflege bzw. Schönheit\nHaare / Friseur\n+ Fransig fedrige Frisuren\n+ Entsprechende Haarpflege je nach Haarzustand \nHaut / Kosmetik\n+ Hautpflege je nach Hautzustand \nKörperpflege\n+ Heilende Pflege (Öle\, Lotionen…) \nBäder und Massagen\n+ Heil- und Schönheitsbädern\n+ Entspannende Massagen \nHaushalt\n+ Klasse Zeitpunkt um in einer neuen Wohnung ein zu ziehen\n+ Ausgiebig die Wohnung und sonstige Räume lüften\n+ Obsthorden und Kellerregale reinigen\n+ Gemüse und Obst einfrieren \n– Backen \nLandwirtschaft und Garten\n+ Butter erzeugen\n+ Krankes Gehölz in Sträuchern und Obstbäumen entfernen\n+ Kastration von Haustieren\n+ Setzen und reparieren von Einzäunungen \n– Sähen und Pflanzen\n– Unkraut entfernen / jäten\n– Jungtiere von der Mutter entwöhnen (schlechte Entwicklung)
URL:https://new-age-lifestyle.com/mondkalender/krebs-im-neumond-17-07-2023-mondphase-mondkalender/
ATTACH;FMTTYPE=image/png:https://new-age-lifestyle.com/wp-content/uploads/2021/12/mondkalender-krebs-im-neumond.png
END:VEVENT
END:VCALENDAR